BEGIN:VCALENDAR
VERSION:2.0
PRODID:spatie/icalendar-generator
DESCRIPTION:Veranstaltungen von Scherberger Königsspiel
X-WR-CALDESC:Veranstaltungen von Scherberger Königsspiel
REFRESH-INTERVAL;VALUE=DURATION:PT1440M
X-PUBLISHED-TTL:PT1440M
BEGIN:VTIMEZONE
TZID:Europe/Berlin
BEGIN:STANDARD
DTSTART:20221030T030000Z
TZOFFSETFROM:+0200
TZOFFSETTO:+0100
END:STANDARD
BEGIN:DAYLIGHT
DTSTART:20230326T020000Z
TZOFFSETFROM:+0100
TZOFFSETTO:+0200
END:DAYLIGHT
BEGIN:STANDARD
DTSTART:20231029T030000Z
TZOFFSETFROM:+0200
TZOFFSETTO:+0100
END:STANDARD
END:VTIMEZONE
BEGIN:VTIMEZONE
TZID:UTC
BEGIN:STANDARD
DTSTART:20250724T033251Z
TZOFFSETFROM:+0000
TZOFFSETTO:+0000
END:STANDARD
END:VTIMEZONE
BEGIN:VEVENT
UID:3-100
DTSTAMP:20260420T033251Z
SUMMARY:Nachspiel in Scherberg
LOCATION:
ORGANIZER;CN=mario:MAILTO:mario.dohlen@web.de
DTSTART;TZID=Europe/Berlin:20230701T160000
DTEND;TZID=Europe/Berlin:20230702T000000
X-ALT-DESC;FMTTYPE=TEXT/HTML:Schützenwiese\, St. Hubertus Schützenbruders
 chaft Würselen-Scherberg
CATEGORIES:General
URL;VALUE=URI:https://scherberg.de/mc-events/nachspiel-in-scherberg
METHOD:PUBLISH
END:VEVENT
END:VCALENDAR